BEGIN:VCALENDAR
VERSION:2.0
PRODID:-//hacksw/handcal//NONSGML v1.0//EN
CALSCALE:GREGORIAN
BEGIN:VEVENT
UID:69e52f245a798
DTSTAMP:20260419T193812Z
DESCRIPTION:Join us as we commemorate 75 years leading with heart!
SUMMARY:75th Anniversary Celebration
DTSTART:20230929T200000Z
DTEND:20230930T000000Z
END:VEVENT
END:VCALENDAR
