BEGIN:VCALENDAR
VERSION:2.0
PRODID:-//hacksw/handcal//NONSGML v1.0//EN
CALSCALE:GREGORIAN
BEGIN:VEVENT
UID:69e52f24c3ed9
DTSTAMP:20260419T193812Z
DESCRIPTION:This event is open to families and graduates of all faiths.
SUMMARY:Baccalaureate Mass 2023
DTSTART:20230520T200000Z
DTEND:20230520T220000Z
END:VEVENT
END:VCALENDAR
