BEGIN:VCALENDAR
VERSION:2.0
PRODID:-//hacksw/handcal//NONSGML v1.0//EN
CALSCALE:GREGORIAN
BEGIN:VEVENT
UID:69ed5d9f991fe
DTSTAMP:20260426T003439Z
DESCRIPTION:Showcase your artistic talents by participating in this year's program.
SUMMARY:DiverCity Auditions
DTSTART:20230126T193000Z
DTEND:20230126T223000Z
END:VEVENT
END:VCALENDAR
