BEGIN:VCALENDAR
VERSION:2.0
PRODID:-//hacksw/handcal//NONSGML v1.0//EN
CALSCALE:GREGORIAN
BEGIN:VEVENT
UID:69e54a4dbefbd
DTSTAMP:20260419T213405Z
DESCRIPTION:Bill Hebert is a senior industry advisor and director working with various organizations and committees in both financial services and other industries.
SUMMARY:Fintech Speaker Series: Bill Hebert ’82\, Co-Chair\, FIX Trading Community Global Member Services Committee
DTSTART:20230215T193000Z
DTEND:20230215T204500Z
END:VEVENT
END:VCALENDAR
