BEGIN:VCALENDAR
VERSION:2.0
PRODID:-//hacksw/handcal//NONSGML v1.0//EN
CALSCALE:GREGORIAN
BEGIN:VEVENT
UID:69e5572fe9da2
DTSTAMP:20260419T222903Z
DESCRIPTION:A 25-year veteran in the payment industry\, and current CEO of BlueSnap\, Ralph Dangelmaier has spent his career creating financial products\, while growing both public and private companies.
SUMMARY:Fintech Speaker Series: Ralph Dangelmaier '88\, CEO\, BlueSnap
DTSTART:20230201T193000Z
DTEND:20230201T204500Z
END:VEVENT
END:VCALENDAR
