BEGIN:VCALENDAR
VERSION:2.0
PRODID:-//hacksw/handcal//NONSGML v1.0//EN
CALSCALE:GREGORIAN
BEGIN:VEVENT
UID:69e547da874ab
DTSTAMP:20260419T212338Z
DESCRIPTION:
SUMMARY:Stonehill College 75th Anniversary Mass
DTSTART:20230929T200000Z
DTEND:20230930T035959Z
END:VEVENT
END:VCALENDAR
