BEGIN:VCALENDAR
VERSION:2.0
PRODID:-//hacksw/handcal//NONSGML v1.0//EN
CALSCALE:GREGORIAN
BEGIN:VEVENT
UID:69e5a156ae537
DTSTAMP:20260420T034526Z
DESCRIPTION:Stoneworks Dance Company\, the official dance company of Stonehill College\, will perform their spring performance featuring choreography from alumni and current company members.
SUMMARY:Stoneworks Dance Company
DTSTART:20220421
DTEND:20220421
END:VEVENT
END:VCALENDAR
